BEGIN:VCALENDAR
PRODID:-//eluceo/ical//2.0/EN
VERSION:2.0
CALSCALE:GREGORIAN
BEGIN:VEVENT
UID:f9677a13ee664fd19a29bd855d795512
DTSTAMP:20260423T105210Z
SUMMARY:givenchy-nouvelle-boutique-saint-laurent-rive-gauche-circa-1975 - D
 ate de vente : 24/01/2014
DESCRIPTION:Nom du lots : GIVENCHY Nouvelle Boutique\, SAINT LAURENT Rive G
 auche\, circa 1975\n\nLot comprenant une blouse à col cravate en mousseli
 ne à dominante bleue\, verte\, bordeaux rehaussée de lurex\, et une jupe
  en velours bordeaux
DTSTART;VALUE=DATE:20140124
END:VEVENT
END:VCALENDAR
