BEGIN:VCALENDAR
PRODID:-//eluceo/ical//2.0/EN
VERSION:2.0
CALSCALE:GREGORIAN
BEGIN:VEVENT
UID:efcda9125a0c72b46b672aa3081589ee
DTSTAMP:20260423T104918Z
SUMMARY:yohji-yamamoto - Date de vente : 24/01/2014
DESCRIPTION:Nom du lots : Yohji YAMAMOTO\n\nLot comprenant un sarouel en co
 ton et rayonne marine\, et un long pull en coton bleu ciel
DTSTART;VALUE=DATE:20140124
END:VEVENT
END:VCALENDAR
