BEGIN:VCALENDAR
PRODID:-//eluceo/ical//2.0/EN
VERSION:2.0
CALSCALE:GREGORIAN
BEGIN:VEVENT
UID:ff2ebfde91467ab92f74a5fb7e81f919
DTSTAMP:20260423T104841Z
SUMMARY:krystyna-bukowska - Date de vente : 24/01/2014
DESCRIPTION:Nom du lots : Krystyna BUKOWSKA\n\nEnsemble en reps polyester n
 oir composé dune robe bustier et dun spencer col châle\, double bout
 onnage
DTSTART;VALUE=DATE:20140124
END:VEVENT
END:VCALENDAR
