BEGIN:VCALENDAR
PRODID:-//eluceo/ical//2.0/EN
VERSION:2.0
CALSCALE:GREGORIAN
BEGIN:VEVENT
UID:1f02539961ea976f5db6a90a4d328bd8
DTSTAMP:20260423T105000Z
SUMMARY:thierry-mugler-couture - Date de vente : 24/01/2014
DESCRIPTION:Nom du lots : Thierry MUGLER couture\n\nEnsemble en mousseline 
 vert\, marron en dégradé composé d’un pantalon\, d’un haut à encol
 ure américaine sur dos nu et d’une ceinture. Griffe bleue\, graphisme l
 amé argent\, noir
DTSTART;VALUE=DATE:20140124
END:VEVENT
END:VCALENDAR
