BEGIN:VCALENDAR
PRODID:-//eluceo/ical//2.0/EN
VERSION:2.0
CALSCALE:GREGORIAN
BEGIN:VEVENT
UID:93bc02bac44126f64999e1ed8a903b88
DTSTAMP:20260423T104615Z
SUMMARY:anonyme - Date de vente : 24/01/2014
DESCRIPTION:Nom du lots : Anonyme\n\nRobe longue en crêpe noir\, décollet
 é asymétrique\, épaule soulignée d’une application de paillettes vio
 lettes\, dorés\, taille soulignée d’une fronce et d’une ceinture\, l
 ongueur asymétrique. Décousus
DTSTART;VALUE=DATE:20140124
END:VEVENT
END:VCALENDAR
