BEGIN:VCALENDAR
PRODID:-//eluceo/ical//2.0/EN
VERSION:2.0
CALSCALE:GREGORIAN
BEGIN:VEVENT
UID:268f1ca493419fb47da56afeb33b0415
DTSTAMP:20260423T105210Z
SUMMARY:yves-saint-laurent-rive-gauche-par-tom-ford-yves-saint-laurent-vari
 ation - Date de vente : 24/01/2014
DESCRIPTION:Nom du lots : Yves SAINT LAURENT rive gauche par Tom Ford\, Yve
 s SAINT LAURENT variation\n\nLot composé d’une veste en soie marron et 
 velours de soie à la couleur\, col châle cranté\, simple boutonnage à 
 deux boutons\, nervures soulignées de gros grain marron\, deux poches hor
 izontales à rabats\, manches longues\; nous y joignons une blouse en soie
  sauvage fuchsia\, col châle\, fentes de côtés\, manches longues
DTSTART;VALUE=DATE:20140124
END:VEVENT
END:VCALENDAR
