BEGIN:VCALENDAR
PRODID:-//eluceo/ical//2.0/EN
VERSION:2.0
CALSCALE:GREGORIAN
BEGIN:VEVENT
UID:a7e7e60d8e0616a389f00f6670f4b832
DTSTAMP:20260423T104841Z
SUMMARY:christian-lacroix - Date de vente : 24/01/2014
DESCRIPTION:Nom du lots : Christian LACROIX\n\nHaute couture n°1415 circa 
 1989 Ensermble en crêpe de soie coquille d’oeuf composé d’une jupe p
 antalon soulignée à la taille par une ceinture drapée agrémentée d’
 un noeud précédent un important panneau cousu sur la jambe et une blouse
  ras du cou\, manches longues. Griffe or\, beige\, graphisme blanc
DTSTART;VALUE=DATE:20140124
END:VEVENT
END:VCALENDAR
