BEGIN:VCALENDAR
PRODID:-//eluceo/ical//2.0/EN
VERSION:2.0
CALSCALE:GREGORIAN
BEGIN:VEVENT
UID:c444250dcf7cc224d8d0d385e705a9c7
DTSTAMP:20260423T104748Z
SUMMARY:christian-dior - Date de vente : 24/01/2014
DESCRIPTION:Nom du lots : Christian DIOR\n\nHaute couture n° 24311-10274.P
 .6 circa 1970 Veste en veau velours bleu\, petit col\, deux poches sous ra
 bat\, manches longues\, martingale au dos\, se porte sur un pantalon à pi
 nces en jersey bleu imprimé\, rappel du veau velours par une fine ceintur
 e. Griffe noire\, graphisme blanc (tâches)
DTSTART;VALUE=DATE:20140124
END:VEVENT
END:VCALENDAR
