BEGIN:VCALENDAR
PRODID:-//eluceo/ical//2.0/EN
VERSION:2.0
CALSCALE:GREGORIAN
BEGIN:VEVENT
UID:80550ec0d68dfdce505aab062df335e3
DTSTAMP:20260423T104453Z
SUMMARY:gres-boutique - Date de vente : 24/01/2014
DESCRIPTION:Nom du lots : GRES boutique\n\nLot comprenant une robe longue 
 à fines bretelles en mousseline ivoire\, et deux pantalons divers (taches
 )
DTSTART;VALUE=DATE:20140124
END:VEVENT
END:VCALENDAR
