BEGIN:VCALENDAR
PRODID:-//eluceo/ical//2.0/EN
VERSION:2.0
CALSCALE:GREGORIAN
BEGIN:VEVENT
UID:b8a1065298206b6f43516a67d49d90a7
DTSTAMP:20260423T104626Z
SUMMARY:emanuel-ungaro - Date de vente : 24/01/2014
DESCRIPTION:Nom du lots : Emanuel UNGARO\n\nCouture n°2896\, Automne - Hiv
 er 1974 Manteau en cachemire marron a effet de surpiqûres\, deux poches p
 oitrines plaquées\, et deux poches dans les coutures\, simple boutonnage 
 à cinq boutons\, manches longues à revers\, fente dos. Griffe blanche\, 
 graphisme noir (manque la ceinture)
DTSTART;VALUE=DATE:20140124
END:VEVENT
END:VCALENDAR
