BEGIN:VCALENDAR
PRODID:-//eluceo/ical//2.0/EN
VERSION:2.0
CALSCALE:GREGORIAN
BEGIN:VEVENT
UID:3b43c990c7918c851b95c34513ad4969
DTSTAMP:20260423T104959Z
SUMMARY:jean-louis-scherrer - Date de vente : 24/01/2014
DESCRIPTION:Nom du lots : Jean Louis SCHERRER\n\nFourrure manteau en soie p
 olyester façon moire\, à dominante grise\, col recouvert dopossum ras
 é lustré\, demi doublure intérieure amovible\, en castorette
DTSTART;VALUE=DATE:20140124
END:VEVENT
END:VCALENDAR
