BEGIN:VCALENDAR
PRODID:-//eluceo/ical//2.0/EN
VERSION:2.0
CALSCALE:GREGORIAN
BEGIN:VEVENT
UID:0caa8c39c7d3acd574f8b02bbb7e1a3b
DTSTAMP:20260423T105210Z
SUMMARY:jean-paul-gaultier-homme-circa-1980 - Date de vente : 24/01/2014
DESCRIPTION:Nom du lots : Jean-Paul GAULTIER Homme circa 1980\n\nVeste de s
 mocking en strech noir\, col cranté partiellement recouvert de satin\, un
 e poche poitrine\, deux poches à rabats\, double boutonnage.\, une poche 
 poitreine\, deux poches à rabats\, manches amovible. Accidents à une man
 che
DTSTART;VALUE=DATE:20140124
END:VEVENT
END:VCALENDAR
