BEGIN:VCALENDAR
PRODID:-//eluceo/ical//2.0/EN
VERSION:2.0
CALSCALE:GREGORIAN
BEGIN:VEVENT
UID:c24b233fc9ceb46559cf510b7a5aff1b
DTSTAMP:20260423T104703Z
SUMMARY:gaultier-public - Date de vente : 24/01/2014
DESCRIPTION:Nom du lots : GAULTIER Public\n\nRobe bustier en strech violet 
 à effet de poitrine préformé
DTSTART;VALUE=DATE:20140124
END:VEVENT
END:VCALENDAR
