BEGIN:VCALENDAR
PRODID:-//eluceo/ical//2.0/EN
VERSION:2.0
CALSCALE:GREGORIAN
BEGIN:VEVENT
UID:d73a8a272397422c801e2cc928ed5ddc
DTSTAMP:20260423T121721Z
SUMMARY:mugler - Date de vente : 24/01/2014
DESCRIPTION:Nom du lots : MUGLER\n\nEnsemble en coton argenté à motifs ca
 zchemire comprenant une veste courte zippée\, une bustier et un pantalon 
 droit. Tâches sur la veste
DTSTART;VALUE=DATE:20140124
END:VEVENT
END:VCALENDAR
