BEGIN:VCALENDAR
PRODID:-//eluceo/ical//2.0/EN
VERSION:2.0
CALSCALE:GREGORIAN
BEGIN:VEVENT
UID:5cbc13eeb0c8c4446a88aab3d871a3b3
DTSTAMP:20260423T122050Z
SUMMARY:christian-dior-boutique - Date de vente : 24/01/2014
DESCRIPTION:Nom du lots : Christian DIOR boutique\n\nEnsemble en soie faço
 nnée à motif floral\, veste longue\, col châle\, simple boutonnage stra
 ssé\, jupe longue
DTSTART;VALUE=DATE:20140124
END:VEVENT
END:VCALENDAR
