BEGIN:VCALENDAR
PRODID:-//eluceo/ical//2.0/EN
VERSION:2.0
CALSCALE:GREGORIAN
BEGIN:VEVENT
UID:113c16106958a595e3a33cce75d58a4e
DTSTAMP:20260423T122131Z
SUMMARY:loris-azzaro-circa-1975-1978 - Date de vente : 24/01/2014
DESCRIPTION:Nom du lots : Loris AZZARO\, circa 1975 / 1978\n\nRobe longue e
 n jersey polyester bleu "Klein"\, col droit recouvert de paillettes de mê
 me couleur\, épaulettes à l’identique\, dos nu jusqu’aux reins souli
 gnant un boutonnage de la jupe droite. Griffe blanche\, graphisme noir
DTSTART;VALUE=DATE:20140124
END:VEVENT
END:VCALENDAR
