BEGIN:VCALENDAR
PRODID:-//eluceo/ical//2.0/EN
VERSION:2.0
CALSCALE:GREGORIAN
BEGIN:VEVENT
UID:467d4079e687c3908f4abfc32e2da782
DTSTAMP:20260423T121715Z
SUMMARY:rebecca - Date de vente : 24/01/2014
DESCRIPTION:Nom du lots : REBECCA\n\nBlouson en Zibeline brune de Russie\, 
 col cranté\, simple boutonnage\, deux poches en biais\, pattes de manches
  et du blouson en python\, fermeture pattes de serrage
DTSTART;VALUE=DATE:20140124
END:VEVENT
END:VCALENDAR
