BEGIN:VCALENDAR
PRODID:-//eluceo/ical//2.0/EN
VERSION:2.0
CALSCALE:GREGORIAN
BEGIN:VEVENT
UID:a8b336eecc78a64c1951394156170a1e
DTSTAMP:20260423T121834Z
SUMMARY:robert-beaulieu - Date de vente : 24/01/2014
DESCRIPTION:Nom du lots : Robert BEAULIEU\n\n9/10 Reversible en nylon soie 
 anthracite et Vison lutecia Emba travail pleines peaux\, capuche doublée 
 fourrure\, simple boutonnage à un bouton siglé
DTSTART;VALUE=DATE:20140124
END:VEVENT
END:VCALENDAR
