BEGIN:VCALENDAR
PRODID:-//eluceo/ical//2.0/EN
VERSION:2.0
CALSCALE:GREGORIAN
BEGIN:VEVENT
UID:832650b1d20661c990bcd61471b05a33
DTSTAMP:20260423T122228Z
SUMMARY:blouson-rversible-en-envers-daim-beige-et - Date de vente : 24/01/2
 014
DESCRIPTION:Nom du lots : Blouson réversible en envers Daim beige et…\n\
 nBlouson réversible en envers Daim beige et Vison femelle scanbrown\, col
  cranté bordé de martre Zibeline marron du Canada\, simple boutonnage à
  deux boutons facettés\, taille coulissée sur un lien
DTSTART;VALUE=DATE:20140124
END:VEVENT
END:VCALENDAR
