BEGIN:VCALENDAR
PRODID:-//eluceo/ical//2.0/EN
VERSION:2.0
CALSCALE:GREGORIAN
BEGIN:VEVENT
UID:23540c7dd06b01fa9d2f8bf20f915222
DTSTAMP:20260423T122032Z
SUMMARY:roberto-cavalli-valentino - Date de vente : 24/01/2014
DESCRIPTION:Nom du lots : Roberto CAVALLI\, VALENTINO\n\nLot composé dun
  gilet tailleur en veau velours beige à effet de franges\, et une jupe dr
 oite en en veau velours camel rehaussé de motifs appliqués rose (salissu
 res)
DTSTART;VALUE=DATE:20140124
END:VEVENT
END:VCALENDAR
