BEGIN:VCALENDAR
PRODID:-//eluceo/ical//2.0/EN
VERSION:2.0
CALSCALE:GREGORIAN
BEGIN:VEVENT
UID:ef1f65efa5a945a881f45e017b691fd3
DTSTAMP:20260423T121807Z
SUMMARY:by-malene-birger - Date de vente : 24/01/2014
DESCRIPTION:Nom du lots : By Malene BIRGER\n\nVeste en lainage tissé beige
  gansée de cuir fauve\, encolure ronde\, devant zippé\, deux poches plaq
 uées\, manches longues
DTSTART;VALUE=DATE:20140124
END:VEVENT
END:VCALENDAR
