BEGIN:VCALENDAR
PRODID:-//eluceo/ical//2.0/EN
VERSION:2.0
CALSCALE:GREGORIAN
BEGIN:VEVENT
UID:6e25b3aee9db88b325d50491a01d34c3
DTSTAMP:20260423T122354Z
SUMMARY:anonyme-yves-saint-laurent-rive-gauche - Date de vente : 24/01/2014
DESCRIPTION:Nom du lots : Anonyme\, Yves SAINT LAURENT rive gauche\n\nLot e
 n velours de soie bleu nuit composé d’une veste vareuse doublée de sat
 in turquoise\, d’une jupe porte-feuille à effet de drapé et d’une bl
 ouse en satin marine\, ras du cou\, manches longues à boutonnage au dos. 
 Griffe blanche\, graphisme noir rehaussé de deux carrés de couleur. (gri
 ffe blanche\, graphisme noir portant le n° 76384 non d’origine)
DTSTART;VALUE=DATE:20140124
END:VEVENT
END:VCALENDAR
