BEGIN:VCALENDAR
PRODID:-//eluceo/ical//2.0/EN
VERSION:2.0
CALSCALE:GREGORIAN
BEGIN:VEVENT
UID:666950b7487b4d3adb96a2008ff71f71
DTSTAMP:20260423T122050Z
SUMMARY:armani-collezioni - Date de vente : 24/01/2014
DESCRIPTION:Nom du lots : ARMANI Collezioni\n\nTailleur en lin et soie bleu
  rayé blanc\, veste col droit\, simple boutonnage sur patte\, pantalon la
 rge à revers. Taches\, salissures
DTSTART;VALUE=DATE:20140124
END:VEVENT
END:VCALENDAR
