BEGIN:VCALENDAR
PRODID:-//eluceo/ical//2.0/EN
VERSION:2.0
CALSCALE:GREGORIAN
BEGIN:VEVENT
UID:90c47fd1a22ffb12521422f3a0769ace
DTSTAMP:20260423T122017Z
SUMMARY:azzaro-pour-la-redoute - Date de vente : 24/01/2014
DESCRIPTION:Nom du lots : AZZARO pour La Redoute\n\nTailleur 3 pièces en l
 aine bleu marine gansée de lurex argent\, veste\, col châle cranté\, si
 mple boutonnage bijou\, deux poches horizontales passepoilées\, veston é
 galement à simple boutonnage bijou\, deux poches passepoilées\, dos enti
 èrement en lurex argenté\; pantalon large à revers. Taches
DTSTART;VALUE=DATE:20140124
END:VEVENT
END:VCALENDAR
