BEGIN:VCALENDAR
PRODID:-//eluceo/ical//2.0/EN
VERSION:2.0
CALSCALE:GREGORIAN
BEGIN:VEVENT
UID:a84b7d56c065f39bbd8a8e3e0d189bdb
DTSTAMP:20260423T122409Z
SUMMARY:yves-saint-laurent-haute-couture-n59894-circa-19921994 - Date de ve
 nte : 24/01/2014
DESCRIPTION:Nom du lots : Yves SAINT LAURENT haute couture n°59894 circa 1
 992/1994\n\nRobe en gabardine bleu ciel\, petit décolleté en V souligné
  de biais et d’un boutonnage tout le long\, manches longues sur des épa
 ules légèrement froncées\, taille à l’identique ceinturée de reptil
 e vert\, manches trois-quarts avec revers\, jupe droite à pinces. (Saliss
 ures)
DTSTART;VALUE=DATE:20140124
END:VEVENT
END:VCALENDAR
