BEGIN:VCALENDAR
PRODID:-//eluceo/ical//2.0/EN
VERSION:2.0
CALSCALE:GREGORIAN
BEGIN:VEVENT
UID:6798ecb06d4e34296391ee41057aa716
DTSTAMP:20260423T122401Z
SUMMARY:long-manteau-rversible-en-envers-cuir-noir - Date de vente : 24/01/
 2014
DESCRIPTION:Nom du lots : Long manteau réversible en envers cuir noir…\n
 \nLong manteau réversible en envers cuir noir imprimé façon python et V
 ison femelle dark saga\, col cranté et poignets en Zibeline brune de Russ
 ie\, simple boutonnage à deux boutons\, poches verticales
DTSTART;VALUE=DATE:20140124
END:VEVENT
END:VCALENDAR
