BEGIN:VCALENDAR
PRODID:-//eluceo/ical//2.0/EN
VERSION:2.0
CALSCALE:GREGORIAN
BEGIN:VEVENT
UID:8977942b4534fe1d5dfd845593950128
DTSTAMP:20260423T122409Z
SUMMARY:jean-louis-scherrer-haute-couture-n004886-circa-1985-1989 - Date de
  vente : 24/01/2014
DESCRIPTION:Nom du lots : Jean Louis SCHERRER haute couture n°004886 circa
  1985-1989\n\nTailleur en tweed noir et blanc\, composé d’une veste ras
  du cou\, ornée d’incrustations de daim noir à motifs irréguliers\, b
 outonnag brise\, manches longues\, jupe droite légèrement fendue. Griffe
  blanche\, graphisme noir
DTSTART;VALUE=DATE:20140124
END:VEVENT
END:VCALENDAR
