BEGIN:VCALENDAR
PRODID:-//eluceo/ical//2.0/EN
VERSION:2.0
CALSCALE:GREGORIAN
BEGIN:VEVENT
UID:029f821cf25d6adca71e5be4b3ef7003
DTSTAMP:20260423T122248Z
SUMMARY:valentino-couture-circa-1970-1975 - Date de vente : 24/01/2014
DESCRIPTION:Nom du lots : VALENTINO Couture\, circa 1970 / 1975\n\nRobe che
 misier en crêpe de soie noir\, col en pointe\, buste à simple boutonnage
 \, manches longues à poignets resserrés\, jupe à plis plats à partir d
 es petites hanches\, Griffe blanche\, graphisme noir
DTSTART;VALUE=DATE:20140124
END:VEVENT
END:VCALENDAR
