BEGIN:VCALENDAR
PRODID:-//eluceo/ical//2.0/EN
VERSION:2.0
CALSCALE:GREGORIAN
BEGIN:VEVENT
UID:cd49d604aafe1f4cc7e56a26213e7604
DTSTAMP:20260423T124155Z
SUMMARY:anonyme-circa-1970 - Date de vente : 24/01/2014
DESCRIPTION:Nom du lots : Anonyme circa 1970\n\nManteau en drap double face
  framboise\, petit col\, double boutonnage\, manches longues\, ouvertures 
 de poches pour les mains
DTSTART;VALUE=DATE:20140124
END:VEVENT
END:VCALENDAR
