BEGIN:VCALENDAR
PRODID:-//eluceo/ical//2.0/EN
VERSION:2.0
CALSCALE:GREGORIAN
BEGIN:VEVENT
UID:2ada14d5f0fa33458b5e036a7fd538d8
DTSTAMP:20260423T123904Z
SUMMARY:jil-sander - Date de vente : 24/01/2014
DESCRIPTION:Nom du lots : Jil SANDER\n\nMagnifique blazer en cuir agneau bo
 rdeaux\, col châle cranté\, simple boutonnage\, manches longues
DTSTART;VALUE=DATE:20140124
END:VEVENT
END:VCALENDAR
