BEGIN:VCALENDAR
PRODID:-//eluceo/ical//2.0/EN
VERSION:2.0
CALSCALE:GREGORIAN
BEGIN:VEVENT
UID:941e39cdbaa19e553bd5fc78ddaa4d29
DTSTAMP:20260423T124043Z
SUMMARY:yves-saint-laurent - Date de vente : 24/01/2014
DESCRIPTION:Nom du lots : Yves SAINT LAURENT\n\nFourrures Manteau en vison 
 lunaraine\, encolure ronde\, boutonnage asymétrique\, manches longues à 
 revers\, fentes de côtés
DTSTART;VALUE=DATE:20140124
END:VEVENT
END:VCALENDAR
