BEGIN:VCALENDAR
PRODID:-//eluceo/ical//2.0/EN
VERSION:2.0
CALSCALE:GREGORIAN
BEGIN:VEVENT
UID:8f57f33127aa4bf7f7281a2bcae31fbd
DTSTAMP:20260423T124013Z
SUMMARY:laura-ashley - Date de vente : 24/01/2014
DESCRIPTION:Nom du lots : Laura ASHLEY\n\nRobe en coton bi\, haut à effet 
 de nervure à col montant rehaussé de guipure\, manches longues\, jupe am
 ple finissant par un volant
DTSTART;VALUE=DATE:20140124
END:VEVENT
END:VCALENDAR
