BEGIN:VCALENDAR
PRODID:-//eluceo/ical//2.0/EN
VERSION:2.0
CALSCALE:GREGORIAN
BEGIN:VEVENT
UID:e4eb89fa7aa17a18ba6e9f739a786f7e
DTSTAMP:20260423T124338Z
SUMMARY:yves-saint-laurent-rive-gauche-saint-laurent-rive-gauche - Date de 
 vente : 24/01/2014
DESCRIPTION:Nom du lots : Yves SAINT LAURENT rive gauche\, SAINT LAURENT ri
 ve gauche\n\nLot composé d’une veste en cachemire bleu marine\, col ch
 âle cranté\, une poche poitrine\, deux poches verticales\, manches longu
 es\; nous y joignons une jupe portefeuille en tartan écossais bleu\, roug
 e
DTSTART;VALUE=DATE:20140124
END:VEVENT
END:VCALENDAR
