BEGIN:VCALENDAR
PRODID:-//eluceo/ical//2.0/EN
VERSION:2.0
CALSCALE:GREGORIAN
BEGIN:VEVENT
UID:2ae01094fc240c28dcad0e7a52e1caf4
DTSTAMP:20260423T124232Z
SUMMARY:jean-louis-scherrer-boutique-circa-1978 - Date de vente : 24/01/201
 4
DESCRIPTION:Nom du lots : Jean-Louis SCHERRER Boutique circa 1978\n\nEnsemb
 le du soir en soie ivoire\, haut de forme blouse à basque\, à plastron p
 lissé et volanté\, petit col manches longues à poignets resserrés\, ju
 pe longue à plis recouverts à la taille d’un panneau au dos
DTSTART;VALUE=DATE:20140124
END:VEVENT
END:VCALENDAR
