BEGIN:VCALENDAR
PRODID:-//eluceo/ical//2.0/EN
VERSION:2.0
CALSCALE:GREGORIAN
BEGIN:VEVENT
UID:35374339fcf9491e118b24edfd639fce
DTSTAMP:20260423T124210Z
SUMMARY:thierry-mugler-circa-1980 - Date de vente : 24/01/2014
DESCRIPTION:Nom du lots : Thierry MUGLER circa 1980\n\nLot de deux robes\, 
 l’une en velours violet à décolleté arrondis sur encolure montante\, 
 poches en biais\, devant à pressions\, la seconde en moire violette\, enc
 olure montante sur découpe carré ouverte\, manches longues (en l’état
 )
DTSTART;VALUE=DATE:20140124
END:VEVENT
END:VCALENDAR
