BEGIN:VCALENDAR
PRODID:-//eluceo/ical//2.0/EN
VERSION:2.0
CALSCALE:GREGORIAN
BEGIN:VEVENT
UID:48119b962bebc115942c722d3478924e
DTSTAMP:20260423T012218Z
SUMMARY:gianfranco-ferre - Date de vente : 25/11/2013
DESCRIPTION:Nom du lots : Gianfranco FERRE\n\nRobe en toile beige ornée de
  ceintures de cuir marron enserrant la robe à partir de la taille\, encol
 ure bateau\, petite manches.
DTSTART;VALUE=DATE:20131125
END:VEVENT
END:VCALENDAR
