BEGIN:VCALENDAR
PRODID:-//eluceo/ical//2.0/EN
VERSION:2.0
CALSCALE:GREGORIAN
BEGIN:VEVENT
UID:3d5bddd6d9c93271306c9d8722b4e883
DTSTAMP:20260423T013244Z
SUMMARY:saint-laurent-rive-gauche - Date de vente : 25/11/2013
DESCRIPTION:Nom du lots : Saint LAURENT rive gauche\n\n7/8ème En composite
  imprimé gris\, noir à motifs abstraits\, col châle cranté\, double bo
 utonnage\, manches longues à carrure épaulée\, poignets reserrés d’u
 ne patte\, deux poches\, ceinture\, et d’une jupe droite à pinces\, poc
 hes dans les coutures.
DTSTART;VALUE=DATE:20131125
END:VEVENT
END:VCALENDAR
