BEGIN:VCALENDAR
PRODID:-//eluceo/ical//2.0/EN
VERSION:2.0
CALSCALE:GREGORIAN
BEGIN:VEVENT
UID:f24332c1f9fdda181aca6fbffbe57157
DTSTAMP:20260423T013034Z
SUMMARY:anonyme - Date de vente : 25/11/2013
DESCRIPTION:Nom du lots : Anonyme\n\nVeste en porc velours rouille gansé d
 e cuir marron\, petit col\, fermeture Eclair\, deux poches manches longues
  raglan (griffe non d’origine).
DTSTART;VALUE=DATE:20131125
END:VEVENT
END:VCALENDAR
