BEGIN:VCALENDAR
PRODID:-//eluceo/ical//2.0/EN
VERSION:2.0
CALSCALE:GREGORIAN
BEGIN:VEVENT
UID:089a5ab01f898eab293688d7ce6d7d36
DTSTAMP:20260423T013422Z
SUMMARY:yves-saint-laurent-rive-gauche-par-tom-ford - Date de vente : 25/11
 /2013
DESCRIPTION:Nom du lots : Yves SAINT LAURENT rive gauche par Tom Ford\n\nBl
 ouson en daim vert clair\, col droit agrémenté de pinces\, boutonnage as
 ymétrique\, importante poches sur le devant\, manches longues.
DTSTART;VALUE=DATE:20131125
END:VEVENT
END:VCALENDAR
