BEGIN:VCALENDAR
PRODID:-//eluceo/ical//2.0/EN
VERSION:2.0
CALSCALE:GREGORIAN
BEGIN:VEVENT
UID:4a5cb4c0a2e26a5d3416ce4f1198f840
DTSTAMP:20260423T013357Z
SUMMARY:thierry-mugler-circa-19781980 - Date de vente : 25/11/2013
DESCRIPTION:Nom du lots : Thierry MUGLER circa 1978/1980\n\nRobe chemise dr
 oite en lamé or\, col italien sur échancrure\, manches longues\, se port
 e sur un pantalon fuseau à l’identique. (décoloration) Griffe marron\,
  graphisme or.
DTSTART;VALUE=DATE:20131125
END:VEVENT
END:VCALENDAR
