BEGIN:VCALENDAR
PRODID:-//eluceo/ical//2.0/EN
VERSION:2.0
CALSCALE:GREGORIAN
BEGIN:VEVENT
UID:77a667b523935e9fad805c57ab87380c
DTSTAMP:20260423T013105Z
SUMMARY:pierre-cardin - Date de vente : 25/11/2013
DESCRIPTION:Nom du lots : Pierre CARDIN\n\nVeste en lainage écossais à do
 minante verte\, encolure ronde\, parementures fermées par deux pattes tê
 te- bêche\, épaules des manches longues soulignées d’un effet de souf
 flet.
DTSTART;VALUE=DATE:20131125
END:VEVENT
END:VCALENDAR
