BEGIN:VCALENDAR
PRODID:-//eluceo/ical//2.0/EN
VERSION:2.0
CALSCALE:GREGORIAN
BEGIN:VEVENT
UID:c8b6606f04ba3af71825c0f13ae13908
DTSTAMP:20260423T013002Z
SUMMARY:fab - Date de vente : 25/11/2013
DESCRIPTION:Nom du lots : FAB\n\nSac week-end en pangolin lustré marron\, 
 double poignée\, fermoir en laiton doré sur patte\, fermeture éclair\, 
 double poignée.
DTSTART;VALUE=DATE:20131125
END:VEVENT
END:VCALENDAR
