BEGIN:VCALENDAR
PRODID:-//eluceo/ical//2.0/EN
VERSION:2.0
CALSCALE:GREGORIAN
BEGIN:VEVENT
UID:7b45bae2dacebbecf9b57cb527b647b9
DTSTAMP:20260423T013105Z
SUMMARY:lalique - Date de vente : 25/11/2013
DESCRIPTION:Nom du lots : LALIQUE\n\nSac du soir "Diamantine" 16cm en cuir 
 agneau or\, fermeture sur pression ornée d’une feuille stylisée en cri
 stal\, anse bandoulière amovible. Bon état (légères égrenures au cuir
 ).
DTSTART;VALUE=DATE:20131125
END:VEVENT
END:VCALENDAR
