BEGIN:VCALENDAR
PRODID:-//eluceo/ical//2.0/EN
VERSION:2.0
CALSCALE:GREGORIAN
BEGIN:VEVENT
UID:787aed535f7ff17afb11887bf2aee52d
DTSTAMP:20260423T014753Z
SUMMARY:loewe - Date de vente : 25/11/2013
DESCRIPTION:Nom du lots : LOEWE\n\nSac en daim vert et cuir marron\, orné 
 du sigle et du nom\, effet de surpiqures\, Fermeture Eclair\, double poign
 ée.
DTSTART;VALUE=DATE:20131125
END:VEVENT
END:VCALENDAR
