BEGIN:VCALENDAR
PRODID:-//eluceo/ical//2.0/EN
VERSION:2.0
CALSCALE:GREGORIAN
BEGIN:VEVENT
UID:6199580d5472ca63826d95bab1bd1958
DTSTAMP:20260423T013202Z
SUMMARY:dolce-gabbana - Date de vente : 25/11/2013
DESCRIPTION:Nom du lots : DOLCE & GABBANA\n\nSac en denim rose en dégradé
  imprimé de taches noires façon panthère\, fermoir aimanté\, poignée.
DTSTART;VALUE=DATE:20131125
END:VEVENT
END:VCALENDAR
