BEGIN:VCALENDAR
PRODID:-//eluceo/ical//2.0/EN
VERSION:2.0
CALSCALE:GREGORIAN
BEGIN:VEVENT
UID:372429751853a7df9fe64d13c73b53a8
DTSTAMP:20260423T013233Z
SUMMARY:montana-circa-1990 - Date de vente : 25/11/2013
DESCRIPTION:Nom du lots : MONTANA circa 1990\n\nVeste longue en cuir rouge 
 irisé\, encolure bateau\, devant zippé ainsi que deux poches en biais\, 
 poitine soulignée de coutures\, manches longue ornées de pressions. Grif
 fe blanche\, graphisme noir.
DTSTART;VALUE=DATE:20131125
END:VEVENT
END:VCALENDAR
