BEGIN:VCALENDAR
PRODID:-//eluceo/ical//2.0/EN
VERSION:2.0
CALSCALE:GREGORIAN
BEGIN:VEVENT
UID:923320cd16da2f380957f302f1e29512
DTSTAMP:20260423T013104Z
SUMMARY:comme-des-garcons - Date de vente : 25/11/2013
DESCRIPTION:Nom du lots : COMME DES GARCONS\n\nBlouse en mousseline polyest
 er tabac\, ornée de cocardes plissé soleil permanent\, encolure ras du c
 ou soulignée de pinces\, manches longues\, emmanchure basse.
DTSTART;VALUE=DATE:20131125
END:VEVENT
END:VCALENDAR
