BEGIN:VCALENDAR
PRODID:-//eluceo/ical//2.0/EN
VERSION:2.0
CALSCALE:GREGORIAN
BEGIN:VEVENT
UID:6e118989874b759f89f6185a908fe032
DTSTAMP:20260423T013244Z
SUMMARY:anonyme-circa-19451947 - Date de vente : 25/11/2013
DESCRIPTION:Nom du lots : Anonyme circa 1945/1947\n\nRobe en taffetas noire
  ornée d’applications à motif floral en passementerie or rehaussée de
  paillettes multicolores\, encolure américaine sur un léger drapé et do
 s nu\, jupe ample finissant par un bouillonné.
DTSTART;VALUE=DATE:20131125
END:VEVENT
END:VCALENDAR
