BEGIN:VCALENDAR
PRODID:-//eluceo/ical//2.0/EN
VERSION:2.0
CALSCALE:GREGORIAN
BEGIN:VEVENT
UID:730e68e05beee3edccfc5137913ee23f
DTSTAMP:20260423T013201Z
SUMMARY:alaa-circa19981999 - Date de vente : 25/11/2013
DESCRIPTION:Nom du lots : ALAÏA circa1998/1999\n\nEnsemble composé d’un
  body en jersey polyester\, un gilet à maille fantaisie\, ajourée et une
  jupe droite s’élargissant au bas à effet de volant\, bordeaux. Griffe
  blanche graphisme noir.
DTSTART;VALUE=DATE:20131125
END:VEVENT
END:VCALENDAR
