BEGIN:VCALENDAR
PRODID:-//eluceo/ical//2.0/EN
VERSION:2.0
CALSCALE:GREGORIAN
BEGIN:VEVENT
UID:45ca1842b784c926fa4fccdb2ff9fd74
DTSTAMP:20260423T013002Z
SUMMARY:celine - Date de vente : 25/11/2013
DESCRIPTION:Nom du lots : CELINE\n\nSac musette en denim siglé bleu et cui
 r marron\, fermeture aimanté sous rabat orné d’une poche zippée\, por
 te-monaie dans la poche extérieur\, anse bandoulière.
DTSTART;VALUE=DATE:20131125
END:VEVENT
END:VCALENDAR
